BEGIN:VCALENDAR
VERSION:2.0
PRODID:spatie/icalendar-generator
DESCRIPTION:Events from Country Star Quilters
X-WR-CALDESC:Events from Country Star Quilters
REFRESH-INTERVAL;VALUE=DURATION:PT1440M
X-PUBLISHED-TTL:PT1440M
BEGIN:VTIMEZONE
TZID:America/New_York
BEGIN:DAYLIGHT
DTSTART:20250309T020000Z
TZOFFSETFROM:-0500
TZOFFSETTO:-0400
END:DAYLIGHT
BEGIN:STANDARD
DTSTART:20251102T020000Z
TZOFFSETFROM:-0400
TZOFFSETTO:-0500
END:STANDARD
BEGIN:DAYLIGHT
DTSTART:20260308T020000Z
TZOFFSETFROM:-0500
TZOFFSETTO:-0400
END:DAYLIGHT
END:VTIMEZONE
BEGIN:VTIMEZONE
TZID:UTC
BEGIN:STANDARD
DTSTART:20250727T231847Z
TZOFFSETFROM:+0000
TZOFFSETTO:+0000
END:STANDARD
END:VTIMEZONE
BEGIN:VEVENT
UID:173-6
DTSTAMP:20260423T231847Z
SUMMARY:JAX Quilt Fest
LOCATION:Prime Osborne Convention Center 1000 Water St  Jacksonville FL 322
 04
ORGANIZER;CN=Sara:MAILTO:sara@anoleimaging.com
DTSTART;TZID=America/New_York:20250918T090000
DTEND;TZID=America/New_York:20250920T160000
X-ALT-DESC;FMTTYPE=TEXT/HTML:
CATEGORIES:General
URL;VALUE=URI:https://countrystarquilters.org/mc-events/jax-quilt-fest/
METHOD:PUBLISH
END:VEVENT
END:VCALENDAR