BEGIN:VCALENDAR
VERSION:2.0
PRODID:spatie/icalendar-generator
DESCRIPTION:Events from Country Star Quilters
X-WR-CALDESC:Events from Country Star Quilters
REFRESH-INTERVAL;VALUE=DURATION:PT1440M
X-PUBLISHED-TTL:PT1440M
BEGIN:VTIMEZONE
TZID:America/New_York
BEGIN:STANDARD
DTSTART:20251102T020000Z
TZOFFSETFROM:-0400
TZOFFSETTO:-0500
END:STANDARD
BEGIN:DAYLIGHT
DTSTART:20260308T020000Z
TZOFFSETFROM:-0500
TZOFFSETTO:-0400
END:DAYLIGHT
BEGIN:STANDARD
DTSTART:20261101T020000Z
TZOFFSETFROM:-0400
TZOFFSETTO:-0500
END:STANDARD
END:VTIMEZONE
BEGIN:VTIMEZONE
TZID:UTC
BEGIN:STANDARD
DTSTART:20250727T164426Z
TZOFFSETFROM:+0000
TZOFFSETTO:+0000
END:STANDARD
END:VTIMEZONE
BEGIN:VEVENT
UID:160-3
DTSTAMP:20260423T164426Z
SUMMARY:Monthy Meeting
LOCATION:Anchor Church 541798 US-1  Callahan FL 32011
ORGANIZER;CN=Sara:MAILTO:sara@anoleimaging.com
RRULE:FREQ=MONTHLY;BYDAY=2MO;UNTIL=20270520T000000Z
DTSTART;TZID=America/New_York:20260511T183000
DTEND;TZID=America/New_York:20260511T210000
X-ALT-DESC;FMTTYPE=TEXT/HTML:Our regular monthly meeting. Come by and see w
 hat we're up to...
CATEGORIES:Monthly Meeting
URL;VALUE=URI:https://countrystarquilters.org/mc-events/monthy-meeting/?mc_
 id=160
METHOD:PUBLISH
END:VEVENT
END:VCALENDAR